{"text_format":"1","workbook":"xlsx","n_sheets":14,"sheets":["別紙１","4月","5月","6月","7月","8月","9月","10月","11月","12月","1月","2月","3月","記載例1"],"not_rendered":{"charts":0,"images":0,"macros":1,"external_links":0,"defined_names":14,"comments":2,"pivot_tables":0},"unopened":[],"bounds":{"document_bytes":16777216,"sheet_cells":100000,"rows_first":2000,"rows_last":500,"rows_between":2000,"halvings":0,"cell_chars":16384,"cell_head_chars":4096},"cells_cut":0,"cells_raw":0,"read":"whole","date_system":"1900"}

{"sheet":"別紙１","index":0,"n_rows":26,"n_cols":37,"rows_kept":26,"cut":false,"hidden":false,"merged":[[11,15,11,17],[11,18,11,19],[11,0,11,3],[3,22,3,25],[20,0,20,3],[19,0,19,3],[17,20,17,27],[18,0,18,3],[18,4,18,6],[18,7,18,9],[18,10,18,11],[18,12,18,14],[18,15,18,17],[18,18,18,19],[18,20,18,27],[17,0,17,3],[17,4,17,6],[17,7,17,9],[17,10,17,11],[11,10,11,11],[11,4,11,6],[11,7,11,9],[17,18,17,19],[14,4,14,6],[23,20,24,27],[19,18,19,19],[19,20,19,27],[20,4,20,6],[20,7,20,9],[20,10,20,11],[20,12,20,14],[20,15,20,17],[20,18,20,19],[20,20,20,27],[19,4,19,6],[19,7,19,9],[19,10,19,11],[19,12,19,14],[19,15,19,17],[24,4,24,6],[24,12,24,14],[24,7,24,11],[24,15,24,19],[21,15,21,17],[11,12,11,14],[25,0,38,27],[23,4,23,6],[23,7,23,9],[23,10,23,11],[23,12,23,14],[23,15,23,17],[23,18,23,19],[23,0,24,3],[21,18,21,19],[21,20,21,27],[22,0,22,3],[22,4,22,6],[22,7,22,9],[22,10,22,11],[22,12,22,14],[22,15,22,17],[22,18,22,19],[22,20,22,27],[21,0,21,3],[21,4,21,6],[21,7,21,9],[21,10,21,11],[21,12,21,14],[14,15,14,17],[14,18,14,19],[14,20,14,27],[17,12,17,14],[17,15,17,17],[15,18,15,19],[15,20,15,27],[16,0,16,3],[16,4,16,6],[16,7,16,9],[16,10,16,11],[16,12,16,14],[16,15,16,17],[16,18,16,19],[16,20,16,27],[15,0,15,3],[15,4,15,6],[15,7,15,9],[15,10,15,11],[15,12,15,14],[15,15,15,17],[1,0,1,27],[4,0,4,3],[4,4,4,14],[4,16,4,17],[4,22,4,23],[5,0,5,3],[9,12,9,19],[9,20,10,27],[10,4,10,6],[10,7,10,9],[10,10,10,11],[10,12,10,14],[10,15,10,17],[10,18,10,19],[3,26,3,27],[8,0,8,3],[9,0,10,3],[9,4,9,11],[5,4,5,27],[6,4,6,27],[7,4,7,27],[8,4,8,27],[11,20,11,27],[11,32,22,32],[6,0,6,3],[7,0,7,3],[12,0,12,3],[12,4,12,6],[12,7,12,9],[12,10,12,11],[12,12,12,14],[12,15,12,17],[12,18,12,19],[12,20,12,27],[13,0,13,3],[13,4,13,6],[13,7,13,9],[13,10,13,11],[13,12,13,14],[13,15,13,17],[13,18,13,19],[13,20,13,27],[14,0,14,3],[14,7,14,9],[14,10,14,11],[14,12,14,14]]}
["様式１"]
["閉 所 計 画 ・ 閉 所 実 績 書"]
[]
[null,null,null,null,null,null,null,null,null,null,null,null,null,null,null,null,null,null,null,"対象年度",null,null,2023,null,null,null,"年度"]
["提 出 日"]
["工 事 名"]
["受 注 者",null,null,null,null,null,null,null,null,null,null,null,null,null,null,null,null,null,null,null,null,null,null,null,null,null,null,null,null,null,null,null,null,null,null,"４週６休"]
["工　　期",null,null,null,null,null,null,null,null,null,null,null,null,null,null,null,null,null,null,null,null,null,null,null,null,null,null,null,null,null,null,null,null,null,null,"４週７休"]
["対象期間",null,null,null,null,null,null,null,null,null,null,null,null,null,null,null,null,null,null,null,null,null,null,null,null,null,null,null,null,null,null,null,null,null,null,"４週８休"]
["月　別",null,null,null,"計画",null,null,null,null,null,null,null,"実績",null,null,null,null,null,null,null,"備　考\n（対象外の期間等）",null,null,null,null,null,null,null,null,null,null,null,"シミュレーション表"]
[null,null,null,null,"閉所日数",null,null,"対象日数",null,null,"閉所率",null,"閉所日数",null,null,"対象日数",null,null,"計　",null,null,null,null,null,null,null,null,null,null,null,null,null,null,null,"必要閉所日","対象日数","４週７休"]
[{"$f":"'4月'!A6:B6","v":"令5年4月"},null,null,null,{"$f":"'4月'!C39","v":0},null,null,{"$f":"'4月'!C40","v":30},null,null,{"$f":"'4月'!C41","v":0},null,{"$f":"'4月'!D39","v":0},null,null,{"$f":"'4月'!D40","v":30},null,null,{"$f":"'4月'!D41","v":0},null,null,null,null,null,null,null,null,null,null,null,null,null,"月毎",{"$f":"A12","v":"令5年4月"},{"$f":"ROUNDUP(AK12*AJ12,0)","v":8},{"$f":"H12","v":30},{"$f":"IF(AK11=\"４週６休\",0.214,IF(AK11=\"４週７休\",0.254,IF(AK11=\"４週８休\",0.285)))","v":0.254}]
[{"$f":"'5月'!A6:B6","v":"令5年5月"},null,null,null,{"$f":"'5月'!C40","v":0},null,null,{"$f":"'5月'!C41","v":31},null,null,{"$f":"'5月'!C42","v":0},null,{"$f":"'5月'!D40","v":0},null,null,{"$f":"'5月'!D41","v":31},null,null,{"$f":"'5月'!D42","v":0},null,null,null,null,null,null,null,null,null,null,null,null,null,null,{"$f":"A13","v":"令5年5月"},{"$f":"ROUNDUP(AK13*AJ13,0)","v":8},{"$f":"H13","v":31},{"$f":"AK12","v":0.254}]
[{"$f":"'6月'!A6:B6","v":"令5年6月"},null,null,null,{"$f":"'6月'!C39","v":0},null,null,{"$f":"'6月'!C40","v":30},null,null,{"$f":"'6月'!C41","v":0},null,{"$f":"'6月'!D39","v":0},null,null,{"$f":"'6月'!D40","v":30},null,null,{"$f":"'6月'!D41","v":0},null,null,null,null,null,null,null,null,null,null,null,null,null,null,"令5年6月",8,30,{"$f":"AK13","v":0.254}]
[{"$f":"'7月'!A6:B6","v":"令5年7月"},null,null,null,{"$f":"'7月'!C40","v":0},null,null,{"$f":"'7月'!C41","v":31},null,null,{"$f":"'7月'!C42","v":0},null,{"$f":"'7月'!D40","v":0},null,null,{"$f":"'7月'!D41","v":31},null,null,{"$f":"'7月'!D42","v":0},null,null,null,null,null,null,null,null,null,null,null,null,null,null,"令5年7月",8,31,0.254]
[{"$f":"'8月'!A6:B6","v":"令5年8月"},null,null,null,{"$f":"'8月'!C40","v":0},null,null,{"$f":"'8月'!C41","v":31},null,null,{"$f":"'8月'!C42","v":0},null,{"$f":"'8月'!D40","v":0},null,null,{"$f":"'8月'!D41","v":31},null,null,{"$f":"'8月'!D42","v":0},null,null,null,null,null,null,null,null,null,null,null,null,null,null,"令5年8月",8,31,0.254]
[{"$f":"'9月'!A6:B6","v":"令5年9月"},null,null,null,{"$f":"'9月'!C39","v":0},null,null,{"$f":"'9月'!C40","v":30},null,null,{"$f":"'9月'!C41","v":0},null,{"$f":"'9月'!D39","v":0},null,null,{"$f":"'9月'!D40","v":30},null,null,{"$f":"'9月'!D41","v":0},null,null,null,null,null,null,null,null,null,null,null,null,null,null,"令5年9月",8,30,0.254]
[{"$f":"'10月'!A6:B6","v":"令5年10月"},null,null,null,{"$f":"'10月'!C40","v":0},null,null,{"$f":"'10月'!C41","v":31},null,null,{"$f":"'10月'!C42","v":0},null,{"$f":"'10月'!D40","v":0},null,null,{"$f":"'10月'!D41","v":31},null,null,{"$f":"'10月'!D42","v":0},null,null,null,null,null,null,null,null,null,null,null,null,null,null,"令5年10月",8,31,0.254]
[{"$f":"'11月'!A6:B6","v":"令5年11月"},null,null,null,{"$f":"'11月'!C39","v":0},null,null,{"$f":"'11月'!C40","v":30},null,null,{"$f":"'11月'!C41","v":0},null,{"$f":"'11月'!D39","v":0},null,null,{"$f":"'11月'!D40","v":30},null,null,{"$f":"'11月'!D41","v":0},null,null,null,null,null,null,null,null,null,null,null,null,null,null,"令5年11月",8,30,0.254]
[{"$f":"'12月'!A6:B6","v":"令5年12月"},null,null,null,{"$f":"'12月'!C40","v":0},null,null,{"$f":"'12月'!C41","v":31},null,null,{"$f":"'12月'!C42","v":0},null,{"$f":"'12月'!D40","v":0},null,null,{"$f":"'12月'!D41","v":31},null,null,{"$f":"'12月'!D42","v":0},null,null,null,null,null,null,null,null,null,null,null,null,null,null,"令5年12月",8,31,0.254]
[{"$f":"'1月'!A6:B6","v":"令6年1月"},null,null,null,{"$f":"'1月'!C40","v":0},null,null,{"$f":"'1月'!C41","v":31},null,null,{"$f":"'1月'!C42","v":0},null,{"$f":"'1月'!D40","v":0},null,null,{"$f":"'1月'!D41","v":31},null,null,{"$f":"'1月'!D42","v":0},null,null,null,null,null,null,null,null,null,null,null,null,null,null,"令6年1月",8,31,0.254]
[{"$f":"'2月'!A6:B6","v":"令6年2月"},null,null,null,{"$f":"'2月'!C38","v":0},null,null,{"$f":"'2月'!C39","v":29},null,null,{"$f":"'2月'!C40","v":0},null,{"$f":"'2月'!D38","v":0},null,null,{"$f":"'2月'!D39","v":29},null,null,{"$f":"'2月'!D40","v":0},null,null,null,null,null,null,null,null,null,null,null,null,null,null,"令6年2月",8,29,0.254]
[{"$f":"'3月'!A6:B6","v":"令6年3月"},null,null,null,{"$f":"'3月'!C40","v":0},null,null,{"$f":"'3月'!C41","v":31},null,null,{"$f":"'3月'!C42","v":0},null,{"$f":"'3月'!D40","v":0},null,null,{"$f":"'3月'!D41","v":31},null,null,{"$f":"'3月'!D42","v":0},null,null,null,null,null,null,null,null,null,null,null,null,null,null,"令6年3月",8,31,0.254]
["累　計",null,null,null,{"$f":"SUM(E12:G23)","v":0},null,null,{"$f":"SUM(H12:J23)","v":366},null,null,{"$f":"E24/H24","v":0},null,{"$f":"SUM(M13:M23)","v":0},null,null,{"$f":"SUM(P13:P23)","v":336},null,null,{"$f":"M24/P24","v":0},null,null,null,null,null,null,null,null,null,null,null,null,null,"累計","通年",93,{"$f":"SUM(AJ12:AJ23)","v":366},{"$f":"AK23","v":0.254}]
[null,null,null,null,"計画",null,null,{"$f":"IF(K24>=28.5%,\"４週８休\",IF(K24>=25%,\"４週７休\",IF(K24>=21.4%,\"４週６休\",\"未実施\")))","v":"未実施"},null,null,null,null,"実績",null,null,{"$f":"IF(S24>=28.5%,\"４週８休\",IF(S24>=25%,\"４週７休\",IF(S24>=21.4%,\"４週６休\",\"未実施\")))","v":"未実施"}]
["【作成要領】\n（１）モデル工事に取り組む場合、受注者は、施工計画時の週休２日を確保した工程表に基づき、\n      対象期間内の閉所日、対象日を監督員と協議し決定する。\n（２）閉所日、対象日の計画決定後、月ごとの別シート(以降、別シート)に予定を入力し「閉所計画・\n　　　閉所実績書」(以降、「本書」)を作成する。\n（３）閉所計画作成後、本書に別シートを添付し監督員に提出する\n（４）着手日以降、別シートの閉所実施日欄への入力を進め、本書と併せ、毎月監督員に提出する。\n      なお、計画と異なった場合は「現場閉所計画と現場閉所実績に差異がある場合等に記載」の欄\n      に、理由を記載する。\n（６）そのほか実施方法等の詳細については「いわき市週休２日促進モデル工事試行要領」による。\n（４）設計図書に定めのある場合を除き、本書の内容を証明することを目的として、別途工事日報や\n　　　週報等を作成する必要はない。。"]

{"sheet":"4月","index":1,"n_rows":41,"n_cols":10,"rows_kept":41,"cut":false,"hidden":false,"merged":[[6,5,7,5],[2,1,2,4],[1,0,1,4],[3,1,3,4],[4,1,4,4],[5,0,5,1],[6,0,7,0],[6,1,7,1],[6,2,7,2],[6,3,7,3],[6,4,7,4]]}
[]
["   現場閉所実績書(月別シート)"]
["工事名：",{"$f":"別紙１!E6","v":0}]
["受注者名：",{"$f":"別紙１!E7","v":0}]
["工　　期：",{"$f":"別紙１!E8","v":0},null,null,null,null,null,"年月入力欄"]
[{"$f":"TEXT(J6,\"gge\")&\"年\"&TEXT(J6,\"m\")&\"月\"","v":"令5年4月"},null,null,null,null,null,null,"年",{"$f":"別紙１!W4","v":2023},{"$f":"DATE(I6,I7,1)","v":"2023-04-01"}]
["月日","曜日","現場閉所\n計画日","現場閉所\n実施日","現場閉所計画と現場閉所実績に\n差異がある場合等に記載","祝祭日記入",null,"月",4]
[]
[{"$f":"DATE(I6,I7,1)","v":"2023-04-01"},{"$f":"TEXT(A9,\"aaa\")","v":"土"}]
[{"$f":"A9+1","v":"2023-04-02"},{"$f":"TEXT(A10,\"aaa\")","v":"日"},null,null,null,null,null,"リスト"]
[{"$f":"A10+1","v":"2023-04-03"},"月",null,null,null,null,null,"閉所","〇"]
["2023-04-04","火",null,null,null,null,null,"現場休息","●"]
["2023-04-05","水",null,null,null,null,null,"振替閉所","◎"]
["2023-04-06","木",null,null,null,null,null,"対象外","－"]
["2023-04-07","金",null,null,null,null,null,"雨天等","天"]
["2023-04-08","土"]
["2023-04-09","日"]
["2023-04-10","月"]
["2023-04-11","火"]
["2023-04-12","水"]
["2023-04-13","木"]
["2023-04-14","金"]
["2023-04-15","土"]
["2023-04-16","日"]
["2023-04-17","月"]
["2023-04-18","火"]
["2023-04-19","水"]
["2023-04-20","木"]
["2023-04-21","金"]
["2023-04-22","土"]
["2023-04-23","日"]
["2023-04-24","月"]
["2023-04-25","火"]
["2023-04-26","水"]
["2023-04-27","木"]
["2023-04-28","金"]
["2023-04-29","土"]
[{"$f":"A37+1","v":"2023-04-30"},"日"]
["閉所日数",null,{"$f":"COUNTIF(C9:C38,\"〇\")+COUNTIF(C9:C38,\"◎\")+COUNTIF(C9:C38,\"天\")+COUNTIF(C9:C38,\"●\")","v":0},{"$f":"COUNTIF(D9:D38,\"〇\")+COUNTIF(D9:D38,\"◎\")+COUNTIF(D9:D38,\"天\")+COUNTIF(D9:D38,\"●\")","v":0}]
["対象日数",null,{"$f":"DAY(EOMONTH(J6,0))-COUNTIF(C9:C38,\"－\")","v":30},{"$f":"DAY(EOMONTH(J6,0))-COUNTIF(D9:D38,\"－\")","v":30}]
["閉所率",null,{"$f":"IF(C40<>0,C39/C40,\"対象外\")","v":0},{"$f":"IF(D40<>0,D39/D40,\"対象外\")","v":0}]

{"sheet":"5月","index":2,"n_rows":42,"n_cols":10,"rows_kept":42,"cut":false,"hidden":false,"merged":[[6,5,7,5],[2,1,2,4],[1,0,1,4],[3,1,3,4],[4,1,4,4],[5,0,5,1],[6,0,7,0],[6,1,7,1],[6,2,7,2],[6,3,7,3],[6,4,7,4]]}
[]
["   現場閉所実績書(月別シート)"]
["工事名：",{"$f":"別紙１!E6","v":0}]
["受注者名：",{"$f":"別紙１!E7","v":0}]
["工　　期：",{"$f":"別紙１!E8","v":0},null,null,null,null,null,"年月入力欄"]
[{"$f":"TEXT(J6,\"gge\")&\"年\"&TEXT(J6,\"m\")&\"月\"","v":"令5年5月"},null,null,null,null,null,null,"年",{"$f":"'4月'!I6","v":2023},{"$f":"DATE(I6,I7,1)","v":"2023-05-01"}]
["月日","曜日","現場閉所\n計画日","現場閉所\n実施日","現場閉所計画と現場閉所実績に\n差異がある場合等に記載","祝祭日記入",null,"月",5]
[]
[{"$f":"DATE(I6,I7,1)","v":"2023-05-01"},{"$f":"TEXT(A9,\"aaa\")","v":"月"}]
[{"$f":"A9+1","v":"2023-05-02"},{"$f":"TEXT(A10,\"aaa\")","v":"火"},null,null,null,null,null,"凡例"]
[{"$f":"A10+1","v":"2023-05-03"},"水",null,null,null,null,null,"閉所","〇"]
["2023-05-04","木",null,null,null,null,null,"現場休息","●"]
["2023-05-05","金",null,null,null,null,null,"振替閉所","◎"]
["2023-05-06","土",null,null,null,null,null,"対象外","－"]
["2023-05-07","日",null,null,null,null,null,"雨天等","天"]
["2023-05-08","月"]
["2023-05-09","火"]
["2023-05-10","水"]
["2023-05-11","木"]
["2023-05-12","金"]
["2023-05-13","土"]
["2023-05-14","日"]
["2023-05-15","月"]
["2023-05-16","火"]
["2023-05-17","水"]
["2023-05-18","木"]
["2023-05-19","金"]
["2023-05-20","土"]
["2023-05-21","日"]
["2023-05-22","月"]
["2023-05-23","火"]
["2023-05-24","水"]
["2023-05-25","木"]
["2023-05-26","金"]
["2023-05-27","土"]
["2023-05-28","日"]
["2023-05-29","月"]
["2023-05-30","火"]
["2023-05-31","水"]
["現場閉所日数",null,{"$f":"COUNTIF(C9:C39,\"〇\")+COUNTIF(C9:C39,\"◎\")+COUNTIF(C9:C39,\"天\")+COUNTIF(C9:C39,\"●\")","v":0},{"$f":"COUNTIF(D9:D39,\"〇\")+COUNTIF(D9:D39,\"◎\")+COUNTIF(D9:D39,\"天\")+COUNTIF(D9:D39,\"●\")","v":0}]
["対象期間",null,{"$f":"DAY(EOMONTH(J6,0))-COUNTIF(C9:C39,\"－\")","v":31},{"$f":"DAY(EOMONTH(J6,0))-COUNTIF(D9:D39,\"－\")","v":31}]
["閉所率",null,{"$f":"IF(C41<>0,C40/C41,\"対象外\")","v":0},{"$f":"IF(D41<>0,D40/D41,\"対象外\")","v":0}]

{"sheet":"6月","index":3,"n_rows":41,"n_cols":10,"rows_kept":41,"cut":false,"hidden":false,"merged":[[6,5,7,5],[1,0,1,4],[6,0,7,0],[6,1,7,1],[6,2,7,2],[6,3,7,3],[6,4,7,4],[3,1,3,4],[4,1,4,4],[5,0,5,1],[2,1,2,4]]}
[]
["   現場閉所実績書(月別シート)"]
["工事名：",{"$f":"別紙１!E6","v":0}]
["受注者名：",{"$f":"別紙１!E7","v":0}]
["工　　期：",{"$f":"別紙１!E8","v":0},null,null,null,null,null,"年月入力欄"]
[{"$f":"TEXT(J6,\"gge\")&\"年\"&TEXT(J6,\"m\")&\"月\"","v":"令5年6月"},null,null,null,null,null,null,"年",{"$f":"別紙１!W4","v":2023},{"$f":"DATE(I6,I7,1)","v":"2023-06-01"}]
["月日","曜日","現場閉所\n計画日","現場閉所\n実施日","現場閉所計画と現場閉所実績に\n差異がある場合等に記載","祝祭日記入",null,"月",6]
[]
[{"$f":"DATE(I6,I7,1)","v":"2023-06-01"},{"$f":"TEXT(A9,\"aaa\")","v":"木"}]
[{"$f":"A9+1","v":"2023-06-02"},{"$f":"TEXT(A10,\"aaa\")","v":"金"},null,null,null,null,null,"リスト"]
[{"$f":"A10+1","v":"2023-06-03"},"土",null,null,null,null,null,"閉所","〇"]
["2023-06-04","日",null,null,null,null,null,"現場休息","●"]
["2023-06-05","月",null,null,null,null,null,"振替閉所","◎"]
["2023-06-06","火",null,null,null,null,null,"対象外","－"]
["2023-06-07","水",null,null,null,null,null,"雨天等","天"]
["2023-06-08","木"]
["2023-06-09","金"]
["2023-06-10","土"]
["2023-06-11","日"]
["2023-06-12","月"]
["2023-06-13","火"]
["2023-06-14","水"]
["2023-06-15","木"]
["2023-06-16","金"]
["2023-06-17","土"]
["2023-06-18","日"]
["2023-06-19","月"]
["2023-06-20","火"]
["2023-06-21","水"]
["2023-06-22","木"]
["2023-06-23","金"]
["2023-06-24","土"]
["2023-06-25","日"]
["2023-06-26","月"]
["2023-06-27","火"]
["2023-06-28","水"]
["2023-06-29","木"]
[{"$f":"A37+1","v":"2023-06-30"},"金"]
["現場閉所日数",null,{"$f":"COUNTIF(C9:C38,\"〇\")+COUNTIF(C9:C38,\"◎\")+COUNTIF(C9:C38,\"天\")+COUNTIF(C9:C38,\"●\")","v":0},{"$f":"COUNTIF(D9:D38,\"〇\")+COUNTIF(D9:D38,\"◎\")+COUNTIF(D9:D38,\"天\")+COUNTIF(D9:D38,\"●\")","v":0}]
["対象期間",null,{"$f":"DAY(EOMONTH(J6,0))-COUNTIF(C9:C38,\"－\")","v":30},{"$f":"DAY(EOMONTH(J6,0))-COUNTIF(D9:D38,\"－\")","v":30}]
["閉所率",null,{"$f":"IF(C40<>0,C39/C40,\"対象外\")","v":0},{"$f":"IF(D40<>0,D39/D40,\"対象外\")","v":0}]

{"sheet":"7月","index":4,"n_rows":42,"n_cols":10,"rows_kept":42,"cut":false,"hidden":false,"merged":[[6,5,7,5],[2,1,2,4],[1,0,1,4],[3,1,3,4],[4,1,4,4],[5,0,5,1],[6,0,7,0],[6,1,7,1],[6,2,7,2],[6,3,7,3],[6,4,7,4]]}
[]
["   現場閉所実績書(月別シート)"]
["工事名：",{"$f":"別紙１!E6","v":0}]
["受注者名：",{"$f":"別紙１!E7","v":0}]
["工　　期：",{"$f":"別紙１!E8","v":0},null,null,null,null,null,"年月入力欄"]
[{"$f":"TEXT(J6,\"gge\")&\"年\"&TEXT(J6,\"m\")&\"月\"","v":"令5年7月"},null,null,null,null,null,null,"年",{"$f":"別紙１!W4","v":2023},{"$f":"DATE(I6,I7,1)","v":"2023-07-01"}]
["月日","曜日","現場閉所\n計画日","現場閉所\n実施日","現場閉所計画と現場閉所実績に\n差異がある場合等に記載","祝祭日記入",null,"月",7]
[]
[{"$f":"DATE(I6,I7,1)","v":"2023-07-01"},{"$f":"TEXT(A9,\"aaa\")","v":"土"}]
[{"$f":"A9+1","v":"2023-07-02"},{"$f":"TEXT(A10,\"aaa\")","v":"日"},null,null,null,null,null,"凡例"]
[{"$f":"A10+1","v":"2023-07-03"},"月",null,null,null,null,null,"閉所","〇"]
["2023-07-04","火",null,null,null,null,null,"現場休息","●"]
["2023-07-05","水",null,null,null,null,null,"振替閉所","◎"]
["2023-07-06","木",null,null,null,null,null,"対象外","－"]
["2023-07-07","金",null,null,null,null,null,"雨天等","天"]
["2023-07-08","土"]
["2023-07-09","日"]
["2023-07-10","月"]
["2023-07-11","火"]
["2023-07-12","水"]
["2023-07-13","木"]
["2023-07-14","金"]
["2023-07-15","土"]
["2023-07-16","日"]
["2023-07-17","月"]
["2023-07-18","火"]
["2023-07-19","水"]
["2023-07-20","木"]
["2023-07-21","金"]
["2023-07-22","土"]
["2023-07-23","日"]
["2023-07-24","月"]
["2023-07-25","火"]
["2023-07-26","水"]
["2023-07-27","木"]
["2023-07-28","金"]
["2023-07-29","土"]
["2023-07-30","日"]
["2023-07-31","月"]
["現場閉所日数",null,{"$f":"COUNTIF(C9:C39,\"〇\")+COUNTIF(C9:C39,\"◎\")+COUNTIF(C9:C39,\"天\")+COUNTIF(C9:C39,\"●\")","v":0},{"$f":"COUNTIF(D9:D39,\"〇\")+COUNTIF(D9:D39,\"◎\")+COUNTIF(D9:D39,\"天\")+COUNTIF(D9:D39,\"●\")","v":0}]
["対象期間",null,{"$f":"DAY(EOMONTH(J6,0))-COUNTIF(C9:C39,\"－\")","v":31},{"$f":"DAY(EOMONTH(J6,0))-COUNTIF(D9:D39,\"－\")","v":31}]
["閉所率",null,{"$f":"IF(C41<>0,C40/C41,\"対象外\")","v":0},{"$f":"IF(D41<>0,D40/D41,\"対象外\")","v":0}]

{"sheet":"8月","index":5,"n_rows":42,"n_cols":10,"rows_kept":42,"cut":false,"hidden":false,"merged":[[6,5,7,5],[2,1,2,4],[1,0,1,4],[3,1,3,4],[4,1,4,4],[5,0,5,1],[6,0,7,0],[6,1,7,1],[6,2,7,2],[6,3,7,3],[6,4,7,4]]}
[]
["   現場閉所実績書(月別シート)"]
["工事名：",{"$f":"別紙１!E6","v":0}]
["受注者名：",{"$f":"別紙１!E7","v":0}]
["工　　期：",{"$f":"別紙１!E8","v":0},null,null,null,null,null,"年月入力欄"]
[{"$f":"TEXT(J6,\"gge\")&\"年\"&TEXT(J6,\"m\")&\"月\"","v":"令5年8月"},null,null,null,null,null,null,"年",{"$f":"別紙１!W4","v":2023},{"$f":"DATE(I6,I7,1)","v":"2023-08-01"}]
["月日","曜日","現場閉所\n計画日","現場閉所\n実施日","現場閉所計画と現場閉所実績に\n差異がある場合等に記載","祝祭日記入",null,"月",8]
[]
[{"$f":"DATE(I6,I7,1)","v":"2023-08-01"},{"$f":"TEXT(A9,\"aaa\")","v":"火"}]
[{"$f":"A9+1","v":"2023-08-02"},{"$f":"TEXT(A10,\"aaa\")","v":"水"},null,null,null,null,null,"凡例"]
[{"$f":"A10+1","v":"2023-08-03"},"木",null,null,null,null,null,"閉所","〇"]
["2023-08-04","金",null,null,null,null,null,"現場休息","●"]
["2023-08-05","土",null,null,null,null,null,"振替閉所","◎"]
["2023-08-06","日",null,null,null,null,null,"対象外","－"]
["2023-08-07","月",null,null,null,null,null,"雨天等","天"]
["2023-08-08","火"]
["2023-08-09","水"]
["2023-08-10","木"]
["2023-08-11","金"]
["2023-08-12","土"]
["2023-08-13","日"]
["2023-08-14","月"]
["2023-08-15","火"]
["2023-08-16","水"]
["2023-08-17","木"]
["2023-08-18","金"]
["2023-08-19","土"]
["2023-08-20","日"]
["2023-08-21","月"]
["2023-08-22","火"]
["2023-08-23","水"]
["2023-08-24","木"]
["2023-08-25","金"]
["2023-08-26","土"]
["2023-08-27","日"]
["2023-08-28","月"]
["2023-08-29","火"]
["2023-08-30","水"]
["2023-08-31","木"]
["現場閉所日数",null,{"$f":"COUNTIF(C9:C39,\"〇\")+COUNTIF(C9:C39,\"◎\")+COUNTIF(C9:C39,\"天\")+COUNTIF(C9:C39,\"●\")","v":0},{"$f":"COUNTIF(D9:D39,\"〇\")+COUNTIF(D9:D39,\"◎\")+COUNTIF(D9:D39,\"天\")+COUNTIF(D9:D39,\"●\")","v":0}]
["対象期間",null,{"$f":"DAY(EOMONTH(J6,0))-COUNTIF(C9:C39,\"－\")","v":31},{"$f":"DAY(EOMONTH(J6,0))-COUNTIF(D9:D39,\"－\")","v":31}]
["閉所率",null,{"$f":"IF(C41<>0,C40/C41,\"対象外\")","v":0},{"$f":"IF(D41<>0,D40/D41,\"対象外\")","v":0}]

{"sheet":"9月","index":6,"n_rows":41,"n_cols":10,"rows_kept":41,"cut":false,"hidden":false,"merged":[[6,5,7,5],[2,1,2,4],[1,0,1,4],[3,1,3,4],[4,1,4,4],[5,0,5,1],[6,0,7,0],[6,1,7,1],[6,2,7,2],[6,3,7,3],[6,4,7,4]]}
[]
["   現場閉所実績書(月別シート)"]
["工事名：",{"$f":"別紙１!E6","v":0}]
["受注者名：",{"$f":"別紙１!E7","v":0}]
["工　　期：",{"$f":"別紙１!E8","v":0},null,null,null,null,null,"年月入力欄"]
[{"$f":"TEXT(J6,\"gge\")&\"年\"&TEXT(J6,\"m\")&\"月\"","v":"令5年9月"},null,null,null,null,null,null,"年",{"$f":"別紙１!W4","v":2023},{"$f":"DATE(I6,I7,1)","v":"2023-09-01"}]
["月日","曜日","現場閉所\n計画日","現場閉所\n実施日","現場閉所計画と現場閉所実績に\n差異がある場合等に記載","祝祭日記入",null,"月",9]
[]
[{"$f":"DATE(I6,I7,1)","v":"2023-09-01"},{"$f":"TEXT(A9,\"aaa\")","v":"金"}]
[{"$f":"A9+1","v":"2023-09-02"},{"$f":"TEXT(A10,\"aaa\")","v":"土"},null,null,null,null,null,"リスト"]
[{"$f":"A10+1","v":"2023-09-03"},"日",null,null,null,null,null,"閉所","〇"]
["2023-09-04","月",null,null,null,null,null,"現場休息","●"]
["2023-09-05","火",null,null,null,null,null,"振替閉所","◎"]
["2023-09-06","水",null,null,null,null,null,"対象外","－"]
["2023-09-07","木",null,null,null,null,null,"雨天等","天"]
["2023-09-08","金"]
["2023-09-09","土"]
["2023-09-10","日"]
["2023-09-11","月"]
["2023-09-12","火"]
["2023-09-13","水"]
["2023-09-14","木"]
["2023-09-15","金"]
["2023-09-16","土"]
["2023-09-17","日"]
["2023-09-18","月"]
["2023-09-19","火"]
["2023-09-20","水"]
["2023-09-21","木"]
["2023-09-22","金"]
["2023-09-23","土"]
["2023-09-24","日"]
["2023-09-25","月"]
["2023-09-26","火"]
["2023-09-27","水"]
["2023-09-28","木"]
["2023-09-29","金"]
[{"$f":"A37+1","v":"2023-09-30"},"土"]
["現場閉所日数",null,{"$f":"COUNTIF(C9:C38,\"〇\")+COUNTIF(C9:C38,\"◎\")+COUNTIF(C9:C38,\"天\")+COUNTIF(C9:C38,\"●\")","v":0},{"$f":"COUNTIF(D9:D38,\"〇\")+COUNTIF(D9:D38,\"◎\")+COUNTIF(D9:D38,\"天\")+COUNTIF(D9:D38,\"●\")","v":0}]
["対象期間",null,{"$f":"DAY(EOMONTH(J6,0))-COUNTIF(C9:C38,\"－\")","v":30},{"$f":"DAY(EOMONTH(J6,0))-COUNTIF(D9:D38,\"－\")","v":30}]
["閉所率",null,{"$f":"IF(C40<>0,C39/C40,\"対象外\")","v":0},{"$f":"D39/D40","v":0}]

{"sheet":"10月","index":7,"n_rows":42,"n_cols":10,"rows_kept":42,"cut":false,"hidden":false,"merged":[[6,5,7,5],[2,1,2,4],[1,0,1,4],[3,1,3,4],[4,1,4,4],[5,0,5,1],[6,0,7,0],[6,1,7,1],[6,2,7,2],[6,3,7,3],[6,4,7,4]]}
[]
["   現場閉所実績書(月別シート)"]
["工事名：",{"$f":"別紙１!E6","v":0}]
["受注者名：",{"$f":"別紙１!E7","v":0}]
["工　　期：",{"$f":"別紙１!E8","v":0},null,null,null,null,null,"年月入力欄"]
[{"$f":"TEXT(J6,\"gge\")&\"年\"&TEXT(J6,\"m\")&\"月\"","v":"令5年10月"},null,null,null,null,null,null,"年",{"$f":"別紙１!W4","v":2023},{"$f":"DATE(I6,I7,1)","v":"2023-10-01"}]
["月日","曜日","現場閉所\n計画日","現場閉所\n実施日","現場閉所計画と現場閉所実績に\n差異がある場合等に記載","祝祭日記入",null,"月",10]
[]
[{"$f":"DATE(I6,I7,1)","v":"2023-10-01"},{"$f":"TEXT(A9,\"aaa\")","v":"日"}]
[{"$f":"A9+1","v":"2023-10-02"},{"$f":"TEXT(A10,\"aaa\")","v":"月"},null,null,null,null,null,"凡例"]
[{"$f":"A10+1","v":"2023-10-03"},"火",null,null,null,null,null,"閉所","〇"]
["2023-10-04","水",null,null,null,null,null,"現場休息","●"]
["2023-10-05","木",null,null,null,null,null,"振替閉所","◎"]
["2023-10-06","金",null,null,null,null,null,"対象外","－"]
["2023-10-07","土",null,null,null,null,null,"雨天等","天"]
["2023-10-08","日"]
["2023-10-09","月"]
["2023-10-10","火"]
["2023-10-11","水"]
["2023-10-12","木"]
["2023-10-13","金"]
["2023-10-14","土"]
["2023-10-15","日"]
["2023-10-16","月"]
["2023-10-17","火"]
["2023-10-18","水"]
["2023-10-19","木"]
["2023-10-20","金"]
["2023-10-21","土"]
["2023-10-22","日"]
["2023-10-23","月"]
["2023-10-24","火"]
["2023-10-25","水"]
["2023-10-26","木"]
["2023-10-27","金"]
["2023-10-28","土"]
["2023-10-29","日"]
["2023-10-30","月"]
["2023-10-31","火"]
["現場閉所日数",null,{"$f":"COUNTIF(C9:C39,\"〇\")+COUNTIF(C9:C39,\"◎\")+COUNTIF(C9:C39,\"天\")+COUNTIF(C9:C39,\"●\")","v":0},{"$f":"COUNTIF(D9:D39,\"〇\")+COUNTIF(D9:D39,\"◎\")+COUNTIF(D9:D39,\"天\")+COUNTIF(D9:D39,\"●\")","v":0}]
["対象期間",null,{"$f":"DAY(EOMONTH(J6,0))-COUNTIF(C9:C39,\"－\")","v":31},{"$f":"DAY(EOMONTH(J6,0))-COUNTIF(D9:D39,\"－\")","v":31}]
["閉所率",null,{"$f":"IF(C41<>0,C40/C41,\"対象外\")","v":0},{"$f":"IF(D41<>0,D40/D41,\"対象外\")","v":0}]

{"sheet":"11月","index":8,"n_rows":41,"n_cols":10,"rows_kept":41,"cut":false,"hidden":false,"merged":[[6,5,7,5],[2,1,2,4],[1,0,1,4],[3,1,3,4],[4,1,4,4],[5,0,5,1],[6,0,7,0],[6,1,7,1],[6,2,7,2],[6,3,7,3],[6,4,7,4]]}
[]
["   現場閉所実績書(月別シート)"]
["工事名：",{"$f":"別紙１!E6","v":0}]
["受注者名：",{"$f":"別紙１!E7","v":0}]
["工　　期：",{"$f":"別紙１!E8","v":0},null,null,null,null,null,"年月入力欄"]
[{"$f":"TEXT(J6,\"gge\")&\"年\"&TEXT(J6,\"m\")&\"月\"","v":"令5年11月"},null,null,null,null,null,null,"年",{"$f":"別紙１!W4","v":2023},{"$f":"DATE(I6,I7,1)","v":"2023-11-01"}]
["月日","曜日","現場閉所\n計画日","現場閉所\n実施日","現場閉所計画と現場閉所実績に\n差異がある場合等に記載","祝祭日記入",null,"月",11]
[]
[{"$f":"DATE(I6,I7,1)","v":"2023-11-01"},{"$f":"TEXT(A9,\"aaa\")","v":"水"}]
[{"$f":"A9+1","v":"2023-11-02"},{"$f":"TEXT(A10,\"aaa\")","v":"木"},null,null,null,null,null,"リスト"]
[{"$f":"A10+1","v":"2023-11-03"},"金",null,null,null,null,null,"閉所","〇"]
["2023-11-04","土",null,null,null,null,null,"現場休息","●"]
["2023-11-05","日",null,null,null,null,null,"振替閉所","◎"]
["2023-11-06","月",null,null,null,null,null,"対象外","－"]
["2023-11-07","火",null,null,null,null,null,"雨天等","天"]
["2023-11-08","水"]
["2023-11-09","木"]
["2023-11-10","金"]
["2023-11-11","土"]
["2023-11-12","日"]
["2023-11-13","月"]
["2023-11-14","火"]
["2023-11-15","水"]
["2023-11-16","木"]
["2023-11-17","金"]
["2023-11-18","土"]
["2023-11-19","日"]
["2023-11-20","月"]
["2023-11-21","火"]
["2023-11-22","水"]
["2023-11-23","木"]
["2023-11-24","金"]
["2023-11-25","土"]
["2023-11-26","日"]
["2023-11-27","月"]
["2023-11-28","火"]
["2023-11-29","水"]
[{"$f":"A37+1","v":"2023-11-30"},"木"]
["現場閉所日数",null,{"$f":"COUNTIF(C9:C38,\"〇\")+COUNTIF(C9:C38,\"◎\")+COUNTIF(C9:C38,\"天\")+COUNTIF(C9:C38,\"●\")","v":0},{"$f":"COUNTIF(D9:D38,\"〇\")+COUNTIF(D9:D38,\"◎\")+COUNTIF(D9:D38,\"天\")+COUNTIF(D9:D38,\"●\")","v":0}]
["対象期間",null,{"$f":"DAY(EOMONTH(J6,0))-COUNTIF(C9:C38,\"－\")","v":30},{"$f":"DAY(EOMONTH(J6,0))-COUNTIF(D9:D38,\"－\")","v":30}]
["閉所率",null,{"$f":"IF(C40<>0,C39/C40,\"対象外\")","v":0},{"$f":"D39/D40","v":0}]

{"sheet":"12月","index":9,"n_rows":42,"n_cols":10,"rows_kept":42,"cut":false,"hidden":false,"merged":[[6,5,7,5],[2,1,2,4],[1,0,1,4],[3,1,3,4],[4,1,4,4],[5,0,5,1],[6,0,7,0],[6,1,7,1],[6,2,7,2],[6,3,7,3],[6,4,7,4]]}
[]
["   現場閉所実績書(月別シート)"]
["工事名：",{"$f":"別紙１!E6","v":0}]
["受注者名：",{"$f":"別紙１!E7","v":0}]
["工　　期：",{"$f":"別紙１!E8","v":0},null,null,null,null,null,"年月入力欄"]
[{"$f":"TEXT(J6,\"gge\")&\"年\"&TEXT(J6,\"m\")&\"月\"","v":"令5年12月"},null,null,null,null,null,null,"年",{"$f":"別紙１!W4","v":2023},{"$f":"DATE(I6,I7,1)","v":"2023-12-01"}]
["月日","曜日","現場閉所\n計画日","現場閉所\n実施日","現場閉所計画と現場閉所実績に\n差異がある場合等に記載","祝祭日記入",null,"月",12]
[]
[{"$f":"DATE(I6,I7,1)","v":"2023-12-01"},{"$f":"TEXT(A9,\"aaa\")","v":"金"}]
[{"$f":"A9+1","v":"2023-12-02"},{"$f":"TEXT(A10,\"aaa\")","v":"土"},null,null,null,null,null,"凡例"]
[{"$f":"A10+1","v":"2023-12-03"},"日",null,null,null,null,null,"閉所","〇"]
["2023-12-04","月",null,null,null,null,null,"現場休息","●"]
["2023-12-05","火",null,null,null,null,null,"振替閉所","◎"]
["2023-12-06","水",null,null,null,null,null,"対象外","－"]
["2023-12-07","木",null,null,null,null,null,"雨天等","天"]
["2023-12-08","金"]
["2023-12-09","土"]
["2023-12-10","日"]
["2023-12-11","月"]
["2023-12-12","火"]
["2023-12-13","水"]
["2023-12-14","木"]
["2023-12-15","金"]
["2023-12-16","土"]
["2023-12-17","日"]
["2023-12-18","月"]
["2023-12-19","火"]
["2023-12-20","水"]
["2023-12-21","木"]
["2023-12-22","金"]
["2023-12-23","土"]
["2023-12-24","日"]
["2023-12-25","月"]
["2023-12-26","火"]
["2023-12-27","水"]
["2023-12-28","木"]
["2023-12-29","金"]
["2023-12-30","土"]
["2023-12-31","日"]
["現場閉所日数",null,{"$f":"COUNTIF(C9:C39,\"〇\")+COUNTIF(C9:C39,\"◎\")+COUNTIF(C9:C39,\"天\")+COUNTIF(C9:C39,\"●\")","v":0},{"$f":"COUNTIF(D9:D39,\"〇\")+COUNTIF(D9:D39,\"◎\")+COUNTIF(D9:D39,\"天\")+COUNTIF(D9:D39,\"●\")","v":0}]
["対象期間",null,{"$f":"DAY(EOMONTH(J6,0))-COUNTIF(C9:C39,\"－\")","v":31},{"$f":"DAY(EOMONTH(J6,0))-COUNTIF(D9:D39,\"－\")","v":31}]
["閉所率",null,{"$f":"IF(C41<>0,C40/C41,\"対象外\")","v":0},{"$f":"IF(D41<>0,D40/D41,\"対象外\")","v":0}]

{"sheet":"1月","index":10,"n_rows":42,"n_cols":10,"rows_kept":42,"cut":false,"hidden":false,"merged":[[6,5,7,5],[2,1,2,4],[1,0,1,4],[3,1,3,4],[4,1,4,4],[5,0,5,1],[6,0,7,0],[6,1,7,1],[6,2,7,2],[6,3,7,3],[6,4,7,4]]}
[]
["   現場閉所実績書(月別シート)"]
["工事名：",{"$f":"別紙１!E6","v":0}]
["受注者名：",{"$f":"別紙１!E7","v":0}]
["工　　期：",{"$f":"別紙１!E8","v":0},null,null,null,null,null,"年月入力欄"]
[{"$f":"TEXT(J6,\"gge\")&\"年\"&TEXT(J6,\"m\")&\"月\"","v":"令6年1月"},null,null,null,null,null,null,"年",{"$f":"別紙１!W4+1","v":2024},{"$f":"DATE(I6,I7,1)","v":"2024-01-01"}]
["月日","曜日","現場閉所\n計画日","現場閉所\n実施日","現場閉所計画と現場閉所実績に\n差異がある場合等に記載","祝祭日記入",null,"月",1]
[]
[{"$f":"DATE(I6,I7,1)","v":"2024-01-01"},{"$f":"TEXT(A9,\"aaa\")","v":"月"}]
[{"$f":"A9+1","v":"2024-01-02"},{"$f":"TEXT(A10,\"aaa\")","v":"火"},null,null,null,null,null,"凡例"]
[{"$f":"A10+1","v":"2024-01-03"},"水",null,null,null,null,null,"閉所","〇"]
["2024-01-04","木",null,null,null,null,null,"現場休息","●"]
["2024-01-05","金",null,null,null,null,null,"振替閉所","◎"]
["2024-01-06","土",null,null,null,null,null,"対象外","－"]
["2024-01-07","日",null,null,null,null,null,"雨天等","天"]
["2024-01-08","月"]
["2024-01-09","火"]
["2024-01-10","水"]
["2024-01-11","木"]
["2024-01-12","金"]
["2024-01-13","土"]
["2024-01-14","日"]
["2024-01-15","月"]
["2024-01-16","火"]
["2024-01-17","水"]
["2024-01-18","木"]
["2024-01-19","金"]
["2024-01-20","土"]
["2024-01-21","日"]
["2024-01-22","月"]
["2024-01-23","火"]
["2024-01-24","水"]
["2024-01-25","木"]
["2024-01-26","金"]
["2024-01-27","土"]
["2024-01-28","日"]
["2024-01-29","月"]
["2024-01-30","火"]
["2024-01-31","水"]
["現場閉所日数",null,{"$f":"COUNTIF(C9:C39,\"〇\")+COUNTIF(C9:C39,\"◎\")+COUNTIF(C9:C39,\"天\")+COUNTIF(C9:C39,\"●\")","v":0},{"$f":"COUNTIF(D9:D39,\"〇\")+COUNTIF(D9:D39,\"◎\")+COUNTIF(D9:D39,\"天\")+COUNTIF(D9:D39,\"●\")","v":0}]
["対象期間",null,{"$f":"DAY(EOMONTH(J6,0))-COUNTIF(C9:C39,\"－\")","v":31},{"$f":"DAY(EOMONTH(J6,0))-COUNTIF(D9:D39,\"－\")","v":31}]
["閉所率",null,{"$f":"IF(C41<>0,C40/C41,\"対象外\")","v":0},{"$f":"IF(D41<>0,D40/D41,\"対象外\")","v":0}]

{"sheet":"2月","index":11,"n_rows":40,"n_cols":10,"rows_kept":40,"cut":false,"hidden":false,"merged":[[6,5,7,5],[1,0,1,4],[6,0,7,0],[6,1,7,1],[6,2,7,2],[6,3,7,3],[6,4,7,4],[3,1,3,4],[4,1,4,4],[5,0,5,1],[2,1,2,4]]}
[]
["   現場閉所実績書(月別シート)"]
["工事名：",{"$f":"別紙１!E6","v":0}]
["受注者名：",{"$f":"別紙１!E7","v":0}]
["工　　期：",{"$f":"別紙１!E8","v":0},null,null,null,null,null,"年月入力欄"]
[{"$f":"TEXT(J6,\"gge\")&\"年\"&TEXT(J6,\"m\")&\"月\"","v":"令6年2月"},null,null,null,null,null,null,"年",{"$f":"'1月'!I6","v":2024},{"$f":"DATE(I6,I7,1)","v":"2024-02-01"}]
["月日","曜日","現場閉所\n計画日","現場閉所\n実施日","現場閉所計画と現場閉所実績に\n差異がある場合等に記載","祝祭日記入",null,"月",2]
[]
[{"$f":"DATE(I6,I7,1)","v":"2024-02-01"},{"$f":"TEXT(A9,\"aaa\")","v":"木"}]
[{"$f":"A9+1","v":"2024-02-02"},{"$f":"TEXT(A10,\"aaa\")","v":"金"},null,null,null,null,null,"リスト"]
[{"$f":"A10+1","v":"2024-02-03"},"土",null,null,null,null,null,"閉所","〇"]
["2024-02-04","日",null,null,null,null,null,"現場休息","●"]
["2024-02-05","月",null,null,null,null,null,"振替閉所","◎"]
["2024-02-06","火",null,null,null,null,null,"対象外","－"]
["2024-02-07","水",null,null,null,null,null,"雨天等","天"]
["2024-02-08","木"]
["2024-02-09","金"]
["2024-02-10","土"]
["2024-02-11","日"]
["2024-02-12","月"]
["2024-02-13","火"]
["2024-02-14","水"]
["2024-02-15","木"]
["2024-02-16","金"]
["2024-02-17","土"]
["2024-02-18","日"]
["2024-02-19","月"]
["2024-02-20","火"]
["2024-02-21","水"]
["2024-02-22","木"]
["2024-02-23","金"]
["2024-02-24","土"]
["2024-02-25","日"]
["2024-02-26","月"]
["2024-02-27","火"]
["2024-02-28","水"]
[{"$f":"A36+1","v":"2024-02-29"},"木"]
["現場閉所日数",null,{"$f":"COUNTIF(C9:C37,\"〇\")+COUNTIF(C9:C37,\"◎\")+COUNTIF(C9:C37,\"天\")+COUNTIF(C9:C37,\"●\")","v":0},{"$f":"COUNTIF(D9:D37,\"〇\")+COUNTIF(D9:D37,\"◎\")+COUNTIF(D9:D37,\"天\")+COUNTIF(D9:D37,\"●\")","v":0}]
["対象期間",null,{"$f":"DAY(EOMONTH(J6,0))-COUNTIF(C9:C37,\"－\")","v":29},{"$f":"DAY(EOMONTH(J6,0))-COUNTIF(D9:D37,\"－\")","v":29}]
["閉所率",null,{"$f":"IF(C39<>0,C38/C39,\"対象外\")","v":0},{"$f":"IF(D39<>0,D38/D39,\"対象外\")","v":0}]

{"sheet":"3月","index":12,"n_rows":42,"n_cols":10,"rows_kept":42,"cut":false,"hidden":false,"merged":[[6,5,7,5],[3,1,3,4],[4,1,4,4],[5,0,5,1],[1,0,1,4],[6,0,7,0],[6,1,7,1],[6,2,7,2],[6,3,7,3],[6,4,7,4],[2,1,2,4]]}
[]
["   現場閉所実績書(月別シート)"]
["工事名：",{"$f":"別紙１!E6","v":0}]
["受注者名：",{"$f":"別紙１!E7","v":0}]
["工　　期：",{"$f":"別紙１!E8","v":0},null,null,null,null,null,"年月入力欄"]
[{"$f":"TEXT(J6,\"gge\")&\"年\"&TEXT(J6,\"m\")&\"月\"","v":"令6年3月"},null,null,null,null,null,null,"年",{"$f":"'2月'!I6","v":2024},{"$f":"DATE(I6,I7,1)","v":"2024-03-01"}]
["月日","曜日","現場閉所\n計画日","現場閉所\n実施日","現場閉所計画と現場閉所実績に\n差異がある場合等に記載","祝祭日記入",null,"月",3]
[]
[{"$f":"DATE(I6,I7,1)","v":"2024-03-01"},{"$f":"TEXT(A9,\"aaa\")","v":"金"}]
[{"$f":"A9+1","v":"2024-03-02"},{"$f":"TEXT(A10,\"aaa\")","v":"土"},null,null,null,null,null,"凡例"]
[{"$f":"A10+1","v":"2024-03-03"},"日",null,null,null,null,null,"閉所","〇"]
["2024-03-04","月",null,null,null,null,null,"現場休息","●"]
["2024-03-05","火",null,null,null,null,null,"振替閉所","◎"]
["2024-03-06","水",null,null,null,null,null,"対象外","－"]
["2024-03-07","木",null,null,null,null,null,"雨天等","天"]
["2024-03-08","金"]
["2024-03-09","土"]
["2024-03-10","日"]
["2024-03-11","月"]
["2024-03-12","火"]
["2024-03-13","水"]
["2024-03-14","木"]
["2024-03-15","金"]
["2024-03-16","土"]
["2024-03-17","日"]
["2024-03-18","月"]
["2024-03-19","火"]
["2024-03-20","水"]
["2024-03-21","木"]
["2024-03-22","金"]
["2024-03-23","土"]
["2024-03-24","日"]
["2024-03-25","月"]
["2024-03-26","火"]
["2024-03-27","水"]
["2024-03-28","木"]
["2024-03-29","金"]
["2024-03-30","土"]
["2024-03-31","日"]
["現場閉所日数",null,{"$f":"COUNTIF(C9:C39,\"〇\")+COUNTIF(C9:C39,\"◎\")+COUNTIF(C9:C39,\"天\")+COUNTIF(C9:C39,\"●\")","v":0},{"$f":"COUNTIF(D9:D39,\"〇\")+COUNTIF(D9:D39,\"◎\")+COUNTIF(D9:D39,\"天\")+COUNTIF(D9:D39,\"●\")","v":0}]
["対象期間",null,{"$f":"DAY(EOMONTH(J6,0))-COUNTIF(C9:C39,\"－\")","v":31},{"$f":"DAY(EOMONTH(J6,0))-COUNTIF(D9:D39,\"－\")","v":31}]
["閉所率",null,{"$f":"IF(C41<>0,C40/C41,\"対象外\")","v":0},{"$f":"IF(D41<>0,D40/D41,\"対象外\")","v":0}]

{"sheet":"記載例1","index":13,"n_rows":42,"n_cols":10,"rows_kept":42,"cut":false,"hidden":false,"merged":[[6,5,7,5],[1,0,1,4],[3,1,3,4],[4,1,4,4],[5,0,5,1],[6,0,7,0],[6,1,7,1],[6,2,7,2],[6,3,7,3],[6,4,7,4],[2,1,2,4]]}
[]
["現場閉所実績書"]
["工事名：",{"$f":"別紙１!E6","v":0}]
["受注者名：",{"$f":"別紙１!E7","v":0}]
["工　　期：",{"$f":"別紙１!E8","v":0},null,null,null,null,null,"年月入力欄"]
[{"$f":"TEXT(J6,\"gge\")&\"年\"&TEXT(J6,\"m\")&\"月\"","v":"令5年8月"},null,null,null,null,null,null,"年",2023,{"$f":"DATE(I6,I7,1)","v":"2023-08-01"}]
["月日","曜日","現場閉所\n計画日","現場閉所\n実施日","現場閉所計画と現場閉所実績に\n差異がある場合等に記載","祝祭日記入",null,"月",8]
[]
[{"$f":"DATE(I6,I7,1)","v":"2023-08-01"},{"$f":"TEXT(A9,\"aaa\")","v":"火"},"－","－"]
[{"$f":"A9+1","v":"2023-08-02"},{"$f":"TEXT(A10,\"aaa\")","v":"水"},"－","－",null,null,null,"凡例"]
[{"$f":"A10+1","v":"2023-08-03"},"木","－","－",null,null,null,"閉所","〇"]
["2023-08-04","金","－","－","契約着工日",null,null,"振替閉所","◎"]
["2023-08-05","土","－","－","対象期間外（現場施工着手前）",null,null,"対象外","－"]
["2023-08-06","日","－","－","　　　　　〃",null,null,"雨天等","天"]
["2023-08-07","月","－","－","　　　　　〃"]
["2023-08-08","火","－","－"]
["2023-08-09","水","－","－"]
["2023-08-10","木","－","－",null,"山の日"]
["2023-08-11","金","－","－","対象期間外（現場施工着手前）"]
["2023-08-12","土","－","－","夏季休暇"]
["2023-08-13","日","－","－","　 〃"]
["2023-08-14","月","－","－","　 〃"]
["2023-08-15","火","－","－"]
["2023-08-16","水","－","－"]
["2023-08-17","木",null,null,"現場施工着手日"]
["2023-08-18","金"]
["2023-08-19","土",null,"天","雨天により休工（監督職員に連絡済）"]
["2023-08-20","日"]
["2023-08-21","月"]
["2023-08-22","火","〇","〇"]
["2023-08-23","水","〇","〇"]
["2023-08-24","木"]
["2023-08-25","金"]
["2023-08-26","土"]
["2023-08-27","日",null,"◎","8月29日の振替休日"]
["2023-08-28","月"]
["2023-08-29","火","〇",null,"地元との協議により作業"]
["2023-08-30","水","〇","〇"]
["2023-08-31","木"]
["現場閉所日数",null,{"$f":"COUNTIF(C9:C39,\"〇\")+COUNTIF(C9:C39,\"◎\")+COUNTIF(C9:C39,\"天\")+COUNTIF(C9:C39,\"他\")","v":4},{"$f":"COUNTIF(D9:D39,\"〇\")+COUNTIF(D9:D39,\"◎\")+COUNTIF(D9:D39,\"天\")+COUNTIF(D9:D39,\"他\")","v":5}]
["対象期間",null,{"$f":"DAY(EOMONTH(J6,0))-COUNTIF(C9:C39,\"－\")","v":15},{"$f":"DAY(EOMONTH(J6,0))-COUNTIF(D9:D39,\"－\")","v":15}]
["閉所率",null,{"$f":"C40/C41","v":0.26666666666666666},{"$f":"D40/D41","v":0.33333333333333331}]